BEGIN:VCALENDAR
VERSION:2.0
PRODID:-//WinterSportFreunde Tapfheim e.V. - ECPv6.15.18//NONSGML v1.0//EN
CALSCALE:GREGORIAN
METHOD:PUBLISH
X-ORIGINAL-URL:http://www.wintersportfreunde.de
X-WR-CALDESC:Veranstaltungen für WinterSportFreunde Tapfheim e.V.
REFRESH-INTERVAL;VALUE=DURATION:PT1H
X-Robots-Tag:noindex
X-PUBLISHED-TTL:PT1H
BEGIN:VTIMEZONE
TZID:Europe/Berlin
BEGIN:DAYLIGHT
TZOFFSETFROM:+0100
TZOFFSETTO:+0200
TZNAME:CEST
DTSTART:20140330T010000
END:DAYLIGHT
BEGIN:STANDARD
TZOFFSETFROM:+0200
TZOFFSETTO:+0100
TZNAME:CET
DTSTART:20141026T010000
END:STANDARD
BEGIN:DAYLIGHT
TZOFFSETFROM:+0100
TZOFFSETTO:+0200
TZNAME:CEST
DTSTART:20150329T010000
END:DAYLIGHT
BEGIN:STANDARD
TZOFFSETFROM:+0200
TZOFFSETTO:+0100
TZNAME:CET
DTSTART:20151025T010000
END:STANDARD
BEGIN:DAYLIGHT
TZOFFSETFROM:+0100
TZOFFSETTO:+0200
TZNAME:CEST
DTSTART:20160327T010000
END:DAYLIGHT
BEGIN:STANDARD
TZOFFSETFROM:+0200
TZOFFSETTO:+0100
TZNAME:CET
DTSTART:20161030T010000
END:STANDARD
END:VTIMEZONE
BEGIN:VEVENT
DTSTART;VALUE=DATE:20151025
DTEND;VALUE=DATE:20151026
DTSTAMP:20260420T073825
CREATED:20151006T182607Z
LAST-MODIFIED:20221120T232245Z
UID:293-1445731200-1445817599@www.wintersportfreunde.de
SUMMARY:Skibasar
DESCRIPTION:In der Aula der Schule in Tapfheim finden die Annahme und der Verkauf aller zum Wintersport gehörender Waren statt\, die in einem brauchbaren und technisch einwandfreien Zustand sind. Die Beurteilung und der Verkauf erfolgen durch ausgebildete Übungsleiter. In der Pause zwischen Annahme und Verkauf der  Waren stellen wir unser neues Winterprogramm vor und es wird eventuell einen kleinen Kurs zum Wachsen von Ski und Board geben. \n  \nWann?            Sonntag\, 25.10.2015 \n10.30 – 11.30 Uhr       Annahme der Artikel \n11.30 – 12.30 Uhr       Vorführung Skiwachsen/Pflege und Mittagessen (Pulled Pork) \n12.30 – 14.00 Uhr       Verkauf der Artikel \n14.15 – 14.45 Uhr       Abholung von Erlös und Ware \n  \nPreis: Grundgebühr von 0\,50 € pro abgegebenen Artikel\, bei verkauften Artikeln 10 % des Verkaufspreises\, die Grundgebühr wird angerechnet
URL:http://www.wintersportfreunde.de/termin/skibasar/
LOCATION:Schule Tapfheim\, Schulstraße 8\, Tapfheim\, 86660\, Deutschland
ATTACH;FMTTYPE=image/jpeg:http://www.wintersportfreunde.de/wp-content/uploads/2015/10/DSC00397-resized.jpg
ORGANIZER;CN="Wintersportfreunde Tapfheim e.V.":MAILTO:kontakt@wintersportfreunde.de IBAN:DE41722515200190596130
END:VEVENT
END:VCALENDAR