BEGIN:VCALENDAR
VERSION:2.0
PRODID:-//WinterSportFreunde Tapfheim e.V. - ECPv6.15.18//NONSGML v1.0//EN
CALSCALE:GREGORIAN
METHOD:PUBLISH
X-WR-CALNAME:WinterSportFreunde Tapfheim e.V.
X-ORIGINAL-URL:http://www.wintersportfreunde.de
X-WR-CALDESC:Veranstaltungen für WinterSportFreunde Tapfheim e.V.
REFRESH-INTERVAL;VALUE=DURATION:PT1H
X-Robots-Tag:noindex
X-PUBLISHED-TTL:PT1H
BEGIN:VTIMEZONE
TZID:Europe/Berlin
BEGIN:DAYLIGHT
TZOFFSETFROM:+0100
TZOFFSETTO:+0200
TZNAME:CEST
DTSTART:20140330T010000
END:DAYLIGHT
BEGIN:STANDARD
TZOFFSETFROM:+0200
TZOFFSETTO:+0100
TZNAME:CET
DTSTART:20141026T010000
END:STANDARD
BEGIN:DAYLIGHT
TZOFFSETFROM:+0100
TZOFFSETTO:+0200
TZNAME:CEST
DTSTART:20150329T010000
END:DAYLIGHT
BEGIN:STANDARD
TZOFFSETFROM:+0200
TZOFFSETTO:+0100
TZNAME:CET
DTSTART:20151025T010000
END:STANDARD
BEGIN:DAYLIGHT
TZOFFSETFROM:+0100
TZOFFSETTO:+0200
TZNAME:CEST
DTSTART:20160327T010000
END:DAYLIGHT
BEGIN:STANDARD
TZOFFSETFROM:+0200
TZOFFSETTO:+0100
TZNAME:CET
DTSTART:20161030T010000
END:STANDARD
END:VTIMEZONE
BEGIN:VEVENT
DTSTART;VALUE=DATE:20151227
DTEND;VALUE=DATE:20151231
DTSTAMP:20260420T022358
CREATED:20151020T234318Z
LAST-MODIFIED:20151223T220418Z
UID:391-1451174400-1451519999@www.wintersportfreunde.de
SUMMARY:4-Tage Snowcamp in Nesselwängle
DESCRIPTION:UPDATE: Wegen Schneemangel leider abgesagt! \nNach oben\nHast Du Lust auf 4 tolle Tage Skispaß auf der Krinnenalpe (1529 m) mitten im Skigebiet? \nLeistungen\nAn- und Abreise im Kleinbus\nÜbernachtung mit Halbpension auf der Krinnenalpe\n4-Tages-Liftpass\nBetreuung \nAbfahrt\nWird noch bekanntgegeben \n\nPreise\n\n\n\nKinder:\n\n196 €\n\n\nJugendliche (16-18 Jahre):\n\n210 €\n\n\n\n\nErforderliches Fahrkönnen\nMindestens der WSF-Kursklasse 4 entsprechend \nOrganisation\nReiseleitung: Jürgen Miller\nTeilnehmer: Kinder und Jugendliche der Jahrgänge 2000 – 2006\n(Bei freien Plätze können wir ältere auch Jugendliche teilnehmen)\nAnmeldeschluss: 06.12.2015 \nLinks\nSkigebiet: www.lifte-nesselwaengle.com\nHotel: www.krinnenalpe-tirol.at
URL:http://www.wintersportfreunde.de/termin/4-tage-snowcamp-in-nesselwaengle/
LOCATION:Nesselwängle\, Nesselwängle 92\, Nesselwängle\, 6672 \, Österreich
CATEGORIES:Ausfahrten,Kids&Teens,Ski Alpin,Ski-Snowboard,Snowboard
ATTACH;FMTTYPE=image/jpeg:http://www.wintersportfreunde.de/wp-content/uploads/2015/10/Krinnenalpe.jpg
ORGANIZER;CN="Wintersportfreunde Tapfheim e.V.":MAILTO:kontakt@wintersportfreunde.de IBAN:DE41722515200190596130
END:VEVENT
END:VCALENDAR