BEGIN:VCALENDAR
VERSION:2.0
PRODID:-//WinterSportFreunde Tapfheim e.V. - ECPv6.15.18//NONSGML v1.0//EN
CALSCALE:GREGORIAN
METHOD:PUBLISH
X-ORIGINAL-URL:http://www.wintersportfreunde.de
X-WR-CALDESC:Veranstaltungen für WinterSportFreunde Tapfheim e.V.
REFRESH-INTERVAL;VALUE=DURATION:PT1H
X-Robots-Tag:noindex
X-PUBLISHED-TTL:PT1H
BEGIN:VTIMEZONE
TZID:Europe/Berlin
BEGIN:DAYLIGHT
TZOFFSETFROM:+0100
TZOFFSETTO:+0200
TZNAME:CEST
DTSTART:20150329T010000
END:DAYLIGHT
BEGIN:STANDARD
TZOFFSETFROM:+0200
TZOFFSETTO:+0100
TZNAME:CET
DTSTART:20151025T010000
END:STANDARD
BEGIN:DAYLIGHT
TZOFFSETFROM:+0100
TZOFFSETTO:+0200
TZNAME:CEST
DTSTART:20160327T010000
END:DAYLIGHT
BEGIN:STANDARD
TZOFFSETFROM:+0200
TZOFFSETTO:+0100
TZNAME:CET
DTSTART:20161030T010000
END:STANDARD
BEGIN:DAYLIGHT
TZOFFSETFROM:+0100
TZOFFSETTO:+0200
TZNAME:CEST
DTSTART:20170326T010000
END:DAYLIGHT
BEGIN:STANDARD
TZOFFSETFROM:+0200
TZOFFSETTO:+0100
TZNAME:CET
DTSTART:20171029T010000
END:STANDARD
END:VTIMEZONE
BEGIN:VEVENT
DTSTART;VALUE=DATE:20160305
DTEND;VALUE=DATE:20160307
DTSTAMP:20260419T231358
CREATED:20150922T104640Z
LAST-MODIFIED:20151022T185640Z
UID:258-1457136000-1457308799@www.wintersportfreunde.de
SUMMARY:2-Tages-Fahrt nach Warth-Schröcken & Lech-Zürs
DESCRIPTION:SkiArlberg mit Walser Charme. Der legendäre Arlberg gehört mit 97 Anlagen\, 340 km Skiabfahrten und einem weitläufigen Freeride-Revier zu den weltbesten Skiregionen. Warth-Schröcken punktet als schneereichstes Skigebiet Europas. Pro Jahr fallen hier 11 Meter Naturschnee. Die Nord- und Osthänge garantieren beste Schnee- und Pistenqualität bis ins Frühjahr und Glücksmomente für Familien\, Pistenskifahrer und Freerider. \nDer Auenfeldjet verbindet Warth-Schröcken mit Lech Zürs\, von dort geht der Ski-Genuss weiter bis Stuben\, St. Christoph und St. Anton. Das neue Skigebiet Lech-Zürs-Warth-Schröcken ist mit 180 km Pisten das größte Skigebiet in Vorarlberg. \nLeistungen\nAn- und Abreise im Kleinbus\nÜbernachtung mit Halbpension: Details und Preise zum Hotel werden hier und im Amtsblatt bekanntgegeben\n2-Tages-Liftpass \nAbfahrt\n05:00 Uhr Tapfheim Bahnhof\nWeitere Zustiegsmöglichkeiten auf Anfrage \n\nPreise\n\n\n\nFahrt:\n\nWird noch bekanntgegeben\n\n\nÜ/HP:\n\nWird noch bekanntgegeben\n\n\n\n  \n\n\n\nLiftpass\n\n\n\n\nKinder (ab Jg. 2000):\n\n25 €\n\n\nJugendliche (Jg. 97 – 99):\n\n43 €\n\n\nErwachsene:\n\n49 €\n\n\n\n\n\nOrganisation\nReiseleitung: Oliver Schneider\nTeilnehmer: Maximal 14 Personen\nAnmeldeschluss: 29.01.2016 \nLinks\nSkigebiet: www.warth-schroecken.at
URL:http://www.wintersportfreunde.de/termin/2-tages-fahrt-nach-warth-schroeckenlech-zuers/
LOCATION:Warth-Schröcken\, Hochkrumbach 10\, Schröcken\, Vorarlberg\, 6767\, Österreich
CATEGORIES:Ausfahrten,Ski-Snowboard
ATTACH;FMTTYPE=image/jpeg:http://www.wintersportfreunde.de/wp-content/uploads/2015/09/304-e1445540188397.jpg
ORGANIZER;CN="Wintersportfreunde Tapfheim e.V.":MAILTO:kontakt@wintersportfreunde.de IBAN:DE41722515200190596130
END:VEVENT
END:VCALENDAR