BEGIN:VCALENDAR
VERSION:2.0
PRODID:-//WinterSportFreunde Tapfheim e.V. - ECPv6.15.18//NONSGML v1.0//EN
CALSCALE:GREGORIAN
METHOD:PUBLISH
X-ORIGINAL-URL:http://www.wintersportfreunde.de
X-WR-CALDESC:Veranstaltungen für WinterSportFreunde Tapfheim e.V.
REFRESH-INTERVAL;VALUE=DURATION:PT1H
X-Robots-Tag:noindex
X-PUBLISHED-TTL:PT1H
BEGIN:VTIMEZONE
TZID:Europe/Berlin
BEGIN:DAYLIGHT
TZOFFSETFROM:+0100
TZOFFSETTO:+0200
TZNAME:CEST
DTSTART:20150329T010000
END:DAYLIGHT
BEGIN:STANDARD
TZOFFSETFROM:+0200
TZOFFSETTO:+0100
TZNAME:CET
DTSTART:20151025T010000
END:STANDARD
BEGIN:DAYLIGHT
TZOFFSETFROM:+0100
TZOFFSETTO:+0200
TZNAME:CEST
DTSTART:20160327T010000
END:DAYLIGHT
BEGIN:STANDARD
TZOFFSETFROM:+0200
TZOFFSETTO:+0100
TZNAME:CET
DTSTART:20161030T010000
END:STANDARD
BEGIN:DAYLIGHT
TZOFFSETFROM:+0100
TZOFFSETTO:+0200
TZNAME:CEST
DTSTART:20170326T010000
END:DAYLIGHT
BEGIN:STANDARD
TZOFFSETFROM:+0200
TZOFFSETTO:+0100
TZNAME:CET
DTSTART:20171029T010000
END:STANDARD
END:VTIMEZONE
BEGIN:VEVENT
DTSTART;VALUE=DATE:20160319
DTEND;VALUE=DATE:20160327
DTSTAMP:20260419T231358
CREATED:20150922T171326Z
LAST-MODIFIED:20151116T224135Z
UID:266-1458345600-1459036799@www.wintersportfreunde.de
SUMMARY:1 Woche Frankreich: Meribel Mottaret „Les 3 Vallêes“
DESCRIPTION:Meribel Mottaret ist auf 1800m der ideale Ausgangsort\, um das größte zusammenhängende Skigebiet der Welt zu erkunden. Dieses Skigebiet muss man einfach gesehen haben. \nUnsere Leistungen von Hörmann Reisen\n5 Sterne-Fernreisebus LUXUS CLASS inklusive 1x Bordfrühstück\, Tageszeitung\nSkireiseleitung in Meribel\n7 Nächte Unterbringung im Hörmann 4-er Studio inkl. Kurtaxe\, Bettwäsche\, Hand- und Duschtuch\n6-Tages-Skipass \nAnreise\nSamstag\, 19.03.16: 5:00 Uhr Betriebshof Firma Hörmann \nRückreise\nSamstag\, 26.03.16: 16:00 Uhr Start in Meribel Mottaret\nSonntag\, 27.03.16: ca. 04:00 Uhr Ankunft Betriebshof Firma Hörmann \n\nPreise\nAlle Preise pro Person: \n\n\n\nBelegung 4 Personen / Studio\n\n665 €\n\n\nBelegung 3 Personen / Studio\n\n722 €\n\n\nHörmann Top-Reiseschutz ohne SB\n(abhängig von Belegung)\n\nca. 33 €\n\n\n\nKinder-\, Familien- u. Seniorenermäßigung auf Anfrage \n\nOrganisation\nTeilnehmer: Mindestens 10\, maximal 18 Personen\nAnmeldeschluss: 30.12.15 \nLinks\nSkigebiet: www.les3vallees.com
URL:http://www.wintersportfreunde.de/termin/meribel-mottaret-les-3-vallees/
LOCATION:Meribel Mottaret „Les 3 Vallêes“\, Meribel Mottaret\, Frankreich
CATEGORIES:Ausfahrten,Ski Alpin,Ski-Snowboard,Snowboard
ATTACH;FMTTYPE=image/jpeg:http://www.wintersportfreunde.de/wp-content/uploads/2015/08/IMG-20141123-WA0008.jpg
ORGANIZER;CN="Wintersportfreunde Tapfheim e.V.":MAILTO:kontakt@wintersportfreunde.de IBAN:DE41722515200190596130
END:VEVENT
END:VCALENDAR