BEGIN:VCALENDAR
VERSION:2.0
PRODID:-//WinterSportFreunde Tapfheim e.V. - ECPv6.15.18//NONSGML v1.0//EN
CALSCALE:GREGORIAN
METHOD:PUBLISH
X-WR-CALNAME:WinterSportFreunde Tapfheim e.V.
X-ORIGINAL-URL:http://www.wintersportfreunde.de
X-WR-CALDESC:Veranstaltungen für WinterSportFreunde Tapfheim e.V.
REFRESH-INTERVAL;VALUE=DURATION:PT1H
X-Robots-Tag:noindex
X-PUBLISHED-TTL:PT1H
BEGIN:VTIMEZONE
TZID:Europe/Berlin
BEGIN:DAYLIGHT
TZOFFSETFROM:+0100
TZOFFSETTO:+0200
TZNAME:CEST
DTSTART:20150329T010000
END:DAYLIGHT
BEGIN:STANDARD
TZOFFSETFROM:+0200
TZOFFSETTO:+0100
TZNAME:CET
DTSTART:20151025T010000
END:STANDARD
BEGIN:DAYLIGHT
TZOFFSETFROM:+0100
TZOFFSETTO:+0200
TZNAME:CEST
DTSTART:20160327T010000
END:DAYLIGHT
BEGIN:STANDARD
TZOFFSETFROM:+0200
TZOFFSETTO:+0100
TZNAME:CET
DTSTART:20161030T010000
END:STANDARD
BEGIN:DAYLIGHT
TZOFFSETFROM:+0100
TZOFFSETTO:+0200
TZNAME:CEST
DTSTART:20170326T010000
END:DAYLIGHT
BEGIN:STANDARD
TZOFFSETFROM:+0200
TZOFFSETTO:+0100
TZNAME:CET
DTSTART:20171029T010000
END:STANDARD
END:VTIMEZONE
BEGIN:VEVENT
DTSTART;VALUE=DATE:20160214
DTEND;VALUE=DATE:20160218
DTSTAMP:20260419T231122
CREATED:20151021T193811Z
LAST-MODIFIED:20151114T173344Z
UID:402-1455408000-1455753599@www.wintersportfreunde.de
SUMMARY:4-Tage-Skisafari in den Dolomiten
DESCRIPTION:Im Februar geht es zusammen mit Hörmann Reisen für 4 Tage in die Dolomiten – italienisches Flair\, Sonne und mit Kronplatz und Dolomiti SuperSki zwei der impossantesten Skigebiete der Alpen. \nUnd das 4**** Hotel Windschar lockt mit großer Wellnessabteilung und hervorragender Küche. \nSkigebiet\n1. Tag: Kronplatz\n2. – 4. Tag: Dolomiti SuperSki – 478 Lifte mit 1200 Pistenkilometern: Cortina d’Ampezzo\, Corvara\, Sella Ronda\, Marmolada\, Falzarego Pass \nUnsere Leistungen von Hörmann Reisen\nFahrt im 5 Sterne-Fernreisebus LUXUS CLASS inklusive 1x Bordfrühstück\, Tageszeitung\nSkireiseleitung\n3x Übernachtung mit Halbpension im 4**** Hotel Windschar in Gais mit Erlebnis-Badelandschaft\nAperitifparty mit Drinks und Snacks\nAnimationsprogramm\n4-Tages-Skipass \nAbfahrt\nWird noch bekanntgegeben \n\nPreise\n\n\n\nErwachsene\n\n599 €\n\n\n\n\n\n\n\n\n\nKinder-\, Familien- u. Seniorenermäßigung auf Anfrage \nOrganisation\nReiseleitung: Jürgen Schlund\nAnmeldeschluss: 23.12.2015 \nLinks\nSkigebiet: Kronplatz und Dolomiti SuperSki\nHotel: 4**** Windschar
URL:http://www.wintersportfreunde.de/termin/4-tage-skisafari-in-den-dolomiten/
LOCATION:Dolomiti SuperSki\, Cortina d’Ampezzo\, Italien
CATEGORIES:Ausfahrten,Ski Alpin,Ski-Snowboard,Snowboard
ATTACH;FMTTYPE=image/jpeg:http://www.wintersportfreunde.de/wp-content/uploads/2015/10/Titel-groß.jpg
ORGANIZER;CN="Wintersportfreunde Tapfheim e.V.":MAILTO:kontakt@wintersportfreunde.de IBAN:DE41722515200190596130
END:VEVENT
BEGIN:VEVENT
DTSTART;VALUE=DATE:20160220
DTEND;VALUE=DATE:20160221
DTSTAMP:20260419T231122
CREATED:20150922T170748Z
LAST-MODIFIED:20160205T210635Z
UID:262-1455926400-1456012799@www.wintersportfreunde.de
SUMMARY:Familienfahrt nach Scheffau/Söll am Wilden Kaiser
DESCRIPTION:Achtung: neuer Termin 20.2.2016 \nAuch in diesem Jahr freuen wir uns auf die Familienausfahrt. Ziel ist Scheffau/Söll am Wilden Kaiser. Das Skigebiet um den Wilder Kaiser ist das größte zusammenhängende Skigebiet in Österreich. Es umfasst 280 km präparierten Pisten und 90 Liftanlagen. Dies bietet sowohl für die ganze Familie\, als auch allen anderen Teilnehmer\, beste Voraussetzung für einen schönen Ski-/Snowboardtag! \nIm Rahmen des Snow-Colleges bieten wir Guiding an: Kinder und Jugendliche ab Skikursklasse 4 und Snowboard F1 werden den ganzen Tag von unserem Übungsleiter-Team betreut. \nLeistungen\nFahrt im Reisebus der Firma Link\n1-Tages-Liftpass \nAbfahrt\n5.30 Uhr Tapfheim Bahnhof\n5.45 Uhr Donauwörth Haltestelle Bushalle Link \nPreise\n\n\n\n\nFahrt (WSF-Mitglieder):\n\n19\,00 €\n\n\nFahrt (Nichtmitglieder):\n\n26\,00 €\n\n\n\n  \n\n\n\nLiftpass\n\n\n\n\nKinder (ab Jg. 2000):\n\n20\,50 €\n\n\nJugendliche (Jg. 97-99):\n\n37\,00 €\n\n\nErwachsene:\n\n41\,50 €\n\n\n\n\nGuiding\nFahrkönnen: Ab Skikursklasse 4 oder Snowboard F1\nVoraussetzung: Mitgliedschaft bei WSF Tapfheim oder SVDE\nPreis: 10 € \nOrganisation\nReiseleitung: Oliver Schneider\nTeilnehmer: 40-50 Personen\nAnmeldeschluss: 06.02.2016 \nLinks\nSkigebiet: www.skiwelt.at \n\n 
URL:http://www.wintersportfreunde.de/termin/familien-ausfahrt-nach-scheffausoell-am-wilden-kaiser/
LOCATION:Scheffau/Söll am Wilden Kaiser\, Stampfanger 21\, Söll\, 6306\, Österreich
CATEGORIES:Ausfahrten,Kids&Teens,Ski Alpin,Ski-Snowboard,Snowboard
ATTACH;FMTTYPE=image/jpeg:http://www.wintersportfreunde.de/wp-content/uploads/2015/09/IMG_0402-e1477312686544.jpg
ORGANIZER;CN="Wintersportfreunde Tapfheim e.V.":MAILTO:kontakt@wintersportfreunde.de IBAN:DE41722515200190596130
END:VEVENT
BEGIN:VEVENT
DTSTART;VALUE=DATE:20160227
DTEND;VALUE=DATE:20160228
DTSTAMP:20260419T231122
CREATED:20151021T004134Z
LAST-MODIFIED:20160226T121852Z
UID:394-1456531200-1456617599@www.wintersportfreunde.de
SUMMARY:Landkreismeisterschaft in Jungholz
DESCRIPTION:Abgesagt: Da die Stabilität der Piste nicht gewährleistet war\, mussten die Skivereine des Landkreises die Kreismeisterschaft 2016 leider absagen – wir freuen uns auf nächsten Jahr! \nAufgepasst ihr Skifahrer und Snowboarder\, Skilehrer und Rennfahrer! \nTeilnahmeberechtigt sind alle WSF-Mitglieder und nicht nur die geübten Rennläufer\, denn hier geht´s ums „dabei sein“ und um den Faktor „Spaß“! Und von dem hatten wir in den letzten Jahren jede Menge. Jeder Teilnehmer erhält eine Urkunde und für die Sieger gib´s wieder schöne Pokale. \nAlso\, am besten gleich die ganze Familie mitbringen! \nWie im letzten Jahr ist Rennstrecke am Schwandlift – gut zu bewältigen!\n \nLeistungen\nAn- und Abreise: bei genügend Anmeldungen im Reisebus\n1-Tages-Liftpass \nAbfahrt\nWird noch bekanntgegeben \n\nPreise\n\n\n\nFahrt:\n\n\n\n\nFahrgemeinschaft oder Bus\n\n\n\n\n\n  \n\n\n\nLiftpass\n\n\n\n\nKinder bis 5:\n\n8\,50 €\n\n\nKinder 6-15:\n\n17\,50 €\n\n\nErwachsene:\n\n26\,50 €\n\n\n\n\n  \nZusätzlich gibt es attraktive Preisermäßigungen für Familien: \n\n\n\n\nLiftpass für\n\n1 Erwachsener\n\n2 Erwachsene\n\n\n1 Kind:\n\n39\,50 €\n\n67\,00 €\n\n\n2 Kinder:\n\n51\,50 €\n\n78\,50 €\n\n\n3 Kinder:\n\n59\,50 €\n\n86\,00 €\n\n\n\n\nOrganisation\nReiseleitung: Anja Haug\nAnmeldeschluss: 23.02.2016 \nLinks\nSkigebiet: www.jungholz.de
URL:http://www.wintersportfreunde.de/termin/landkreismeisterschaft-in-jungholz/
LOCATION:Jungholz\, Jungholz 105\, Jungholz\, 87491\, Deutschland
CATEGORIES:Ausfahrten,Kids&Teens,Ski Alpin,Ski-Snowboard,Snowboard
ATTACH;FMTTYPE=image/jpeg:http://www.wintersportfreunde.de/wp-content/uploads/2015/10/20140222-Kreismeisterschaft-2014-DSC_0200-e1477339369702.jpg
ORGANIZER;CN="Wintersportfreunde Tapfheim e.V.":MAILTO:kontakt@wintersportfreunde.de IBAN:DE41722515200190596130
END:VEVENT
END:VCALENDAR