BEGIN:VCALENDAR
VERSION:2.0
PRODID:-//WinterSportFreunde Tapfheim e.V. - ECPv6.15.18//NONSGML v1.0//EN
CALSCALE:GREGORIAN
METHOD:PUBLISH
X-ORIGINAL-URL:https://www.wintersportfreunde.de
X-WR-CALDESC:Veranstaltungen für WinterSportFreunde Tapfheim e.V.
REFRESH-INTERVAL;VALUE=DURATION:PT1H
X-Robots-Tag:noindex
X-PUBLISHED-TTL:PT1H
BEGIN:VTIMEZONE
TZID:Europe/Berlin
BEGIN:DAYLIGHT
TZOFFSETFROM:+0100
TZOFFSETTO:+0200
TZNAME:CEST
DTSTART:20230326T010000
END:DAYLIGHT
BEGIN:STANDARD
TZOFFSETFROM:+0200
TZOFFSETTO:+0100
TZNAME:CET
DTSTART:20231029T010000
END:STANDARD
BEGIN:DAYLIGHT
TZOFFSETFROM:+0100
TZOFFSETTO:+0200
TZNAME:CEST
DTSTART:20240331T010000
END:DAYLIGHT
BEGIN:STANDARD
TZOFFSETFROM:+0200
TZOFFSETTO:+0100
TZNAME:CET
DTSTART:20241027T010000
END:STANDARD
BEGIN:DAYLIGHT
TZOFFSETFROM:+0100
TZOFFSETTO:+0200
TZNAME:CEST
DTSTART:20250330T010000
END:DAYLIGHT
BEGIN:STANDARD
TZOFFSETFROM:+0200
TZOFFSETTO:+0100
TZNAME:CET
DTSTART:20251026T010000
END:STANDARD
END:VTIMEZONE
BEGIN:VEVENT
DTSTART;TZID=Europe/Berlin:20241110T000000
DTEND;TZID=Europe/Berlin:20241110T235959
DTSTAMP:20260425T205614
CREATED:20241028T002605Z
LAST-MODIFIED:20241028T002827Z
UID:3335-1731196800-1731283199@www.wintersportfreunde.de
SUMMARY:Großer Skibasar am Sonntag 10.11.2024
DESCRIPTION:Skifahren ist keine günstige Sache und nicht zuletzt das Wintersportmaterial kostet eine ordentliche Stange Geld. Bei uns könnt ihr gebrauchtes und technisch einwandfreies Material zum Verkauf anbieten. Alle Waren werden bei der Annahme von erfahrenen Übungsleitern begutachtet und geschätzt. Beschädigte\, veraltete oder unbrauchbare Artikel werden nicht angenommen. \n\n\n\nIm Verkauf findet ihr ein großes Angebot an gebrauchten Ski\, Snowboards\, Skischuhe\, Skistöcke\, Helme\, Schlittschuhe und auch Skibekleidung. Das Angebot wird wie immer zusätzlich durch Artikel vom Sportfachhandel aufgewertet. \n\n\n\nZur Verkaufsberatung steht euch unser erfahrenes und motiviertes Übungsleiterteam wieder gerne zur Verfügung. \n\n\n\nZeitlicher Ablauf\n\n\n\n10:30 – 11:30 Uhr Annahme der Artikel11:30 – 12:30 Uhr Mittagspause und Umbau12:30 – 14:00 Uhr Verkauf der Artikel14:15 – 14.45 Uhr Abholung von Erlös und Ware\n\n\n\nEinstellgebühren für Artikel\n\n\n\n\nGrundgebühr 0\,50 € pro eingestelltem Artikel.\n\n\n\nBei verkauften Artikeln werden 10 % des Verkaufspreises einbehalten\n\n\n\n\nZusätzliche Angebote:\n\n\n\nWährend der Annahme und des Verkaufs informieren wir euch gerne über unser neues Winterprogramm und nehmen die ersten Anmeldungen entgegen \n\n\n\nAb 10:00 Uhr könnt ihr vor Ort wieder eure Ski-Bindungen durch einen Sportfachhändler zu einem Sonderpreis überprüfen und einstellen zu lassen.Bitte habt Verständnis\, dass hier ab 12:30 Uhr Käufer aus unserem Skibasar hier Vorrang haben und wir ggf. andere Kunden nicht mehr annehmen können. \n\n\n\nÜber die Mittagszeit werden wir auch wieder einen kleinen Imbiss und Getränke anbieten.
URL:https://www.wintersportfreunde.de/termin/skibasar2024/
LOCATION:Schule Tapfheim\, Schulstraße 8\, Tapfheim\, 86660\, Deutschland
CATEGORIES:Kids&Teens,Langlauf,Racing Team,Ski Alpin,Ski-Snowboard,Snowboard
ORGANIZER;CN="Wintersportfreunde Tapfheim e.V.":MAILTO:kontakt@wintersportfreunde.de IBAN:DE41722515200190596130
END:VEVENT
END:VCALENDAR