BEGIN:VCALENDAR
VERSION:2.0
PRODID:-//WinterSportFreunde Tapfheim e.V. - ECPv6.15.18//NONSGML v1.0//EN
CALSCALE:GREGORIAN
METHOD:PUBLISH
X-ORIGINAL-URL:https://www.wintersportfreunde.de
X-WR-CALDESC:Veranstaltungen für WinterSportFreunde Tapfheim e.V.
REFRESH-INTERVAL;VALUE=DURATION:PT1H
X-Robots-Tag:noindex
X-PUBLISHED-TTL:PT1H
BEGIN:VTIMEZONE
TZID:Europe/Berlin
BEGIN:DAYLIGHT
TZOFFSETFROM:+0100
TZOFFSETTO:+0200
TZNAME:CEST
DTSTART:20240331T010000
END:DAYLIGHT
BEGIN:STANDARD
TZOFFSETFROM:+0200
TZOFFSETTO:+0100
TZNAME:CET
DTSTART:20241027T010000
END:STANDARD
BEGIN:DAYLIGHT
TZOFFSETFROM:+0100
TZOFFSETTO:+0200
TZNAME:CEST
DTSTART:20250330T010000
END:DAYLIGHT
BEGIN:STANDARD
TZOFFSETFROM:+0200
TZOFFSETTO:+0100
TZNAME:CET
DTSTART:20251026T010000
END:STANDARD
BEGIN:DAYLIGHT
TZOFFSETFROM:+0100
TZOFFSETTO:+0200
TZNAME:CEST
DTSTART:20260329T010000
END:DAYLIGHT
BEGIN:STANDARD
TZOFFSETFROM:+0200
TZOFFSETTO:+0100
TZNAME:CET
DTSTART:20261025T010000
END:STANDARD
END:VTIMEZONE
BEGIN:VEVENT
DTSTART;TZID=Europe/Berlin:20250202T000000
DTEND;TZID=Europe/Berlin:20250202T235959
DTSTAMP:20260425T151753
CREATED:20241106T224444Z
LAST-MODIFIED:20250112T194109Z
UID:3395-1738454400-1738540799@www.wintersportfreunde.de
SUMMARY:Familienfahrt 2025 mit WSF-Bonus ins Skijuwel Alpbachtal/Wildschönau
DESCRIPTION:Die Familienfahrt ist unser Angebot für alle skibegeisterten Kids und Erwachsene: Dieses Jahr wollen wir wieder ins Alpbachtal fahren. \n\n\n\nIm Zusammenschluss von Alpbachtal und der Wildschönau wartet auf uns ein Skigebiet mit insgesamt 109 Pistenkilometer von 1.000 bis über 2.100 Höhenmetern. Zwischen Schatzberg und Wiedersbergerhorn bleibt kein Skifahrerwunsch offen. \n\n\n\nUnser Racing-Team ist auch dabei und bietet an diesem Tag eine Möglichkeit zum Schnuppern! \n\n\n\nUnd obendrauf für alle WSF-Vereinsmitglieder: Unser WSF-Bonus mit Fahrtpreisen von 20 EUR für Kinder und Erwachsene. Und natürlich sind auch die Liftpässe vergünstigt. \n\n\n\nLeistungen\n\n\n\nFahrt im Reisebus der Firma Link1-Tages-Liftpass \n\n\n\nAbfahrt\n\n\n\n5:15 UhrTapfheim Parkplatz Getränke Färber / Netto(bitte keine Nettoparkplätze benutzen)5:30 UhrDonauwörth Bushalle Link(Ludwig-Auer-Str. / nach Hagebau)\n\n\n\nPreise\n\n\n\nFahrtMitglieder WSF-Bonus20\,00 €Nichtmitglieder29\,00 €\n\n\n\nLiftpass (vergünstigt)Kinder (Jg. 2009-18)29\,00 €Jugendliche (Jg. 2006-08)45\,00 €Erwachsene56\,00 €\n\n\n\nFür Kinder und Jugendliche ist ein Altersnachweis (Lichtbildausweis) sowohl beim Kauf der Skipässe vorzuweisen als auch beim Skifahren mitzuführen! \n\n\n\nOrganisation\n\n\n\nReiseleitung: Wolfgang Sporer\, Daniel FischerTeilnehmerzahl: mindestens 35 PersonenAnmeldeschluss: 20.01.2025Bitte unsere Teilnahmebedingungen beachten! \n\n\n\nInfo & Anmeldung\n\n\n\nEmail: kontakt@wintersportfreunde.deWSF-Info-Telefon: 09070 / 92 11 55 \n\n\n\nLinks\n\n\n\nSkigebiet: www.skijuwel.com
URL:https://www.wintersportfreunde.de/termin/familienfahrt2025/
LOCATION:Alpbachtal\, Alpbach 311\, Alpbach\, 6236\, Österreich
CATEGORIES:Ausfahrten,Kids&Teens,Racing Team,Ski Alpin,Ski-Snowboard,Snowboard
ORGANIZER;CN="Wintersportfreunde Tapfheim e.V.":MAILTO:kontakt@wintersportfreunde.de IBAN:DE41722515200190596130
END:VEVENT
END:VCALENDAR