BEGIN:VCALENDAR
VERSION:2.0
PRODID:-//WinterSportFreunde Tapfheim e.V. - ECPv6.15.18//NONSGML v1.0//EN
CALSCALE:GREGORIAN
METHOD:PUBLISH
X-ORIGINAL-URL:https://www.wintersportfreunde.de
X-WR-CALDESC:Veranstaltungen für WinterSportFreunde Tapfheim e.V.
REFRESH-INTERVAL;VALUE=DURATION:PT1H
X-Robots-Tag:noindex
X-PUBLISHED-TTL:PT1H
BEGIN:VTIMEZONE
TZID:Europe/Berlin
BEGIN:DAYLIGHT
TZOFFSETFROM:+0100
TZOFFSETTO:+0200
TZNAME:CEST
DTSTART:20240331T010000
END:DAYLIGHT
BEGIN:STANDARD
TZOFFSETFROM:+0200
TZOFFSETTO:+0100
TZNAME:CET
DTSTART:20241027T010000
END:STANDARD
BEGIN:DAYLIGHT
TZOFFSETFROM:+0100
TZOFFSETTO:+0200
TZNAME:CEST
DTSTART:20250330T010000
END:DAYLIGHT
BEGIN:STANDARD
TZOFFSETFROM:+0200
TZOFFSETTO:+0100
TZNAME:CET
DTSTART:20251026T010000
END:STANDARD
BEGIN:DAYLIGHT
TZOFFSETFROM:+0100
TZOFFSETTO:+0200
TZNAME:CEST
DTSTART:20260329T010000
END:DAYLIGHT
BEGIN:STANDARD
TZOFFSETFROM:+0200
TZOFFSETTO:+0100
TZNAME:CET
DTSTART:20261025T010000
END:STANDARD
END:VTIMEZONE
BEGIN:VEVENT
DTSTART;TZID=Europe/Berlin:20250405T000000
DTEND;TZID=Europe/Berlin:20250406T235959
DTSTAMP:20260425T133817
CREATED:20241106T211430Z
LAST-MODIFIED:20241106T214448Z
UID:3379-1743811200-1743983999@www.wintersportfreunde.de
SUMMARY:Racing Team: Abschlussfahrt 2025
DESCRIPTION:Am Ende eines langen Winter\, in dem sich das Racing Team fast jedes Wochenende zu Trainingsfahrten und Rennen getroffen hat\, findet die alljährliche Abschlussfahrt ins Zillertal statt. \n\n\n\nJe nach Schneelage werden wir entweder in der ZillertalArena oder auf dem Hintertuxer Gletscher zusammen die letzten Schwünge der Saison machen. Am Abend gibt es wie immer eine lustige Hüttengaudi. \n\n\n\nLeistungen\n\n\n\nAn- und Abreise im Kleinbus / AutoÜbernachtung (noch offen)2-Tages-Liftpass \n\n\n\nAbfahrt & Rückkehr\n\n\n\nTreffpunkt: Samstag\, 05.04.2025 am Nettoparkplatz DonauwörthAbfahrt: 04:30 UhrRückkehr: Sonntag\, 06.04.2025 ca. 19.30 Uhr (Ankunftszeit verkehrsbedingt!)Abholung ebenfalls am Nettoparkplatz Donauwörth \n\n\n\nPreise\n\n\n\nPreise werden erst nach Buchung der Unterkunft verfügbar \n\n\n\nKinder (Jg. 2010-2018): €Jugendliche (Jg. 2006-2009): €Erwachsene: €\n\n\n\nOrganisation\n\n\n\nTeilnehmer: Mitglieder des Racing Teams der Wintersportfreunde TapfheimAnmeldeschluss: 15.03.2025 \n\n\n\nInfo & Anmeldung\n\n\n\nEmail: jugend@wintersportfreunde.deWSF-Info-Telefon: 09070 / 92 11 55 \n\n\n\nLinks\n\n\n\nSkigebiet: www.hintertuxergletscher.atSkigebiet: https://www.zillertalarena.com/winter/Pension: www.olpererblick-tux.at
URL:https://www.wintersportfreunde.de/termin/racingteam-abschlussfahrt-2025/
LOCATION:Hintertuxer Gletscher\, Hintertux 794\, Tux\, 6293\, Österreich
CATEGORIES:Ausfahrten,Kids&Teens,Racing Team,Ski Alpin
ORGANIZER;CN="Wintersportfreunde Tapfheim e.V.":MAILTO:kontakt@wintersportfreunde.de IBAN:DE41722515200190596130
END:VEVENT
END:VCALENDAR