BEGIN:VCALENDAR
VERSION:2.0
PRODID:-//WinterSportFreunde Tapfheim e.V. - ECPv6.15.18//NONSGML v1.0//EN
CALSCALE:GREGORIAN
METHOD:PUBLISH
X-WR-CALNAME:WinterSportFreunde Tapfheim e.V.
X-ORIGINAL-URL:https://www.wintersportfreunde.de
X-WR-CALDESC:Veranstaltungen für WinterSportFreunde Tapfheim e.V.
REFRESH-INTERVAL;VALUE=DURATION:PT1H
X-Robots-Tag:noindex
X-PUBLISHED-TTL:PT1H
BEGIN:VTIMEZONE
TZID:Europe/Berlin
BEGIN:DAYLIGHT
TZOFFSETFROM:+0100
TZOFFSETTO:+0200
TZNAME:CEST
DTSTART:20240331T010000
END:DAYLIGHT
BEGIN:STANDARD
TZOFFSETFROM:+0200
TZOFFSETTO:+0100
TZNAME:CET
DTSTART:20241027T010000
END:STANDARD
BEGIN:DAYLIGHT
TZOFFSETFROM:+0100
TZOFFSETTO:+0200
TZNAME:CEST
DTSTART:20250330T010000
END:DAYLIGHT
BEGIN:STANDARD
TZOFFSETFROM:+0200
TZOFFSETTO:+0100
TZNAME:CET
DTSTART:20251026T010000
END:STANDARD
BEGIN:DAYLIGHT
TZOFFSETFROM:+0100
TZOFFSETTO:+0200
TZNAME:CEST
DTSTART:20260329T010000
END:DAYLIGHT
BEGIN:STANDARD
TZOFFSETFROM:+0200
TZOFFSETTO:+0100
TZNAME:CET
DTSTART:20261025T010000
END:STANDARD
END:VTIMEZONE
BEGIN:VEVENT
DTSTART;TZID=Europe/Berlin:20251105T180000
DTEND;TZID=Europe/Berlin:20251105T193000
DTSTAMP:20260424T235810
CREATED:20251027T224227Z
LAST-MODIFIED:20251027T224255Z
UID:3549-1762365600-1762371000@www.wintersportfreunde.de
SUMMARY:Vollmondlauf 2025
DESCRIPTION:Die Turnhalle ist in den Herbstferien geschlossen\, deshalb werden wir statt der Fitness-Gymnastik einen Vollmondlauf am Mittwoch\, 05.11.2025 anbieten. \n\n\n\nEs erwartet uns ein Supermond – besonders imposant wird dabei der sogenannte „Bibermond“ sein\, der den Nachthimmel in außergewöhnlichem Glanz erstrahlen lässt. Dieser Mond markiert den Übergang in die kalte Jahreszeit\, wenn die Natur sich auf den Winter vorbereitet. \n\n\n\nWir laufen zur Maria-Magdalena-Kapelle hoch und dann in Richtung Wald. \n\n\n\nOrganisation\n\n\n\nTreffpunkt: Feuerwehrhaus Donaumünster/ErlingshofenUhrzeit: 18 Uhr – ca. 19.30 Uhr \n\n\n\nSollte für den Mittwoch Regen angesagt sein\, laufen wir am Donnerstag um 18 Uhr. \n\n\n\nInfo und Anmeldung\n\n\n\nEmail: breitensport@wintersportfreunde.deWSF-Infotelefon: 09070 / 92 11 55oder Lauf10-Whatsapp Gruppe
URL:https://www.wintersportfreunde.de/termin/vollmondlauf2025/
LOCATION:Feuerwehrhaus Donaumünster/Erlingshofen\, Böllenbachstraße 1\, Tapfheim\, 86660\, Germany
CATEGORIES:Breitensport,Jogging,NordicWalking
ATTACH;FMTTYPE=image/jpeg:https://www.wintersportfreunde.de/wp-content/uploads/2016/08/Vollmond.jpg
ORGANIZER;CN="Wintersportfreunde Tapfheim e.V.":MAILTO:kontakt@wintersportfreunde.de IBAN:DE41722515200190596130
END:VEVENT
END:VCALENDAR