BEGIN:VCALENDAR
VERSION:2.0
PRODID:-//WinterSportFreunde Tapfheim e.V. - ECPv6.15.18//NONSGML v1.0//EN
CALSCALE:GREGORIAN
METHOD:PUBLISH
X-WR-CALNAME:WinterSportFreunde Tapfheim e.V.
X-ORIGINAL-URL:https://www.wintersportfreunde.de
X-WR-CALDESC:Veranstaltungen für WinterSportFreunde Tapfheim e.V.
REFRESH-INTERVAL;VALUE=DURATION:PT1H
X-Robots-Tag:noindex
X-PUBLISHED-TTL:PT1H
BEGIN:VTIMEZONE
TZID:Europe/Berlin
BEGIN:DAYLIGHT
TZOFFSETFROM:+0100
TZOFFSETTO:+0200
TZNAME:CEST
DTSTART:20240331T010000
END:DAYLIGHT
BEGIN:STANDARD
TZOFFSETFROM:+0200
TZOFFSETTO:+0100
TZNAME:CET
DTSTART:20241027T010000
END:STANDARD
BEGIN:DAYLIGHT
TZOFFSETFROM:+0100
TZOFFSETTO:+0200
TZNAME:CEST
DTSTART:20250330T010000
END:DAYLIGHT
BEGIN:STANDARD
TZOFFSETFROM:+0200
TZOFFSETTO:+0100
TZNAME:CET
DTSTART:20251026T010000
END:STANDARD
BEGIN:DAYLIGHT
TZOFFSETFROM:+0100
TZOFFSETTO:+0200
TZNAME:CEST
DTSTART:20260329T010000
END:DAYLIGHT
BEGIN:STANDARD
TZOFFSETFROM:+0200
TZOFFSETTO:+0100
TZNAME:CET
DTSTART:20261025T010000
END:STANDARD
END:VTIMEZONE
BEGIN:VEVENT
DTSTART;TZID=Europe/Berlin:20251115T000000
DTEND;TZID=Europe/Berlin:20251116T235959
DTSTAMP:20260424T235841
CREATED:20250910T164712Z
LAST-MODIFIED:20250910T165527Z
UID:3505-1763164800-1763337599@www.wintersportfreunde.de
SUMMARY:Ski-Testival: 2-Tages-Skifahrt ins Stubaital
DESCRIPTION:Teste die neuesten Ski-Modelle direkt auf der Piste! \n\n\n\nSchon Mitte November fahren wir zum Intersport Testival auf den Stubaier Gletscher. Auf über 3000m können wir die Neuheiten der kommenden Wintersaison testen. \n\n\n\nWas dich erwartet: \n\n\n\n\nTeilnahme am offiziellen Ski-Testival Stubai 2025\n\n\n\nTestmöglichkeit neuester Ski- und Snowboardmodelle namhafter Marken\n\n\n\n2 Tage Skivergnügen auf dem größten Gletscherskigebiet Österreichs\n\n\n\nAprès-Ski & Hüttengaudi\n\n\n\n\nBitte beachten:  \n\n\n\n\nAnmeldung bis 10.10.25 – die Hotelbuchung wird danach entsprechend vorgenommen.\n\n\n\nDas Testival hat eine begrenzte Teilnehmerzahl. Die Anmeldung zum Testival muss selbst vorgenommen werden\, da persönliche Daten benötigt werden.\n\n\n\n\nLeistungen\n\n\n\nAn- und Abreise im Kleinbus und bei Bedarf im Privat-PKWÜbernachtung – Hotel nach Absprache2-Tages-Liftpass \n\n\n\nAbfahrt\n\n\n\nNach Absprache \n\n\n\nPreise\n\n\n\nFahrt:   25\,00 €Ü/HP: noch offen\, ca. 80 €\n\n\n\nLiftpass  Kinder (Jahrgang 2010-2014): 70\,70 €Jugend (Jahrgang 2006-2009):91\,90 €Erwachsene (ab Jahrgang 2005): 141\,40 €\n\n\n\nTestival  1 Tag 25\,00 €2 Tage40\,00 €\n\n\n\n \n\n\n\nOrganisation\n\n\n\nReiseleitung: Simon FischerTeilnehmer: Maximal 24 PersonenAnmeldeschluss: 03.10.2025Bitte unsere Teilnahmebedingungen beachten! \n\n\n\nInfo & Anmeldung\n\n\n\nEmail: kontakt@wintersportfreunde.deWSF-Info-Telefon: 09070 / 92 11 55 \n\n\n\nLinks\n\n\n\nSkigebiet: www.stubaier-gletscher.comIntersport Testival: www.stubaier-gletscher.com/intersport-testival
URL:https://www.wintersportfreunde.de/termin/ski-testival-2-tages-skifahrt-ins-stubaital/
LOCATION:Stubaier Gletscher\, Mutterberg 2\, Neustift\, Tirol\, 6167\, Austria
CATEGORIES:Ausfahrten,Ski Alpin,Ski-Snowboard,Snowboard
ATTACH;FMTTYPE=image/jpeg:https://www.wintersportfreunde.de/wp-content/uploads/2025/09/Stubai.jpg
ORGANIZER;CN="Wintersportfreunde Tapfheim e.V.":MAILTO:kontakt@wintersportfreunde.de IBAN:DE41722515200190596130
END:VEVENT
END:VCALENDAR