BEGIN:VCALENDAR
VERSION:2.0
PRODID:-//WinterSportFreunde Tapfheim e.V. - ECPv6.15.18//NONSGML v1.0//EN
CALSCALE:GREGORIAN
METHOD:PUBLISH
X-WR-CALNAME:WinterSportFreunde Tapfheim e.V.
X-ORIGINAL-URL:https://www.wintersportfreunde.de
X-WR-CALDESC:Veranstaltungen für WinterSportFreunde Tapfheim e.V.
REFRESH-INTERVAL;VALUE=DURATION:PT1H
X-Robots-Tag:noindex
X-PUBLISHED-TTL:PT1H
BEGIN:VTIMEZONE
TZID:Europe/Berlin
BEGIN:DAYLIGHT
TZOFFSETFROM:+0100
TZOFFSETTO:+0200
TZNAME:CEST
DTSTART:20240331T010000
END:DAYLIGHT
BEGIN:STANDARD
TZOFFSETFROM:+0200
TZOFFSETTO:+0100
TZNAME:CET
DTSTART:20241027T010000
END:STANDARD
BEGIN:DAYLIGHT
TZOFFSETFROM:+0100
TZOFFSETTO:+0200
TZNAME:CEST
DTSTART:20250330T010000
END:DAYLIGHT
BEGIN:STANDARD
TZOFFSETFROM:+0200
TZOFFSETTO:+0100
TZNAME:CET
DTSTART:20251026T010000
END:STANDARD
BEGIN:DAYLIGHT
TZOFFSETFROM:+0100
TZOFFSETTO:+0200
TZNAME:CEST
DTSTART:20260329T010000
END:DAYLIGHT
BEGIN:STANDARD
TZOFFSETFROM:+0200
TZOFFSETTO:+0100
TZNAME:CET
DTSTART:20261025T010000
END:STANDARD
END:VTIMEZONE
BEGIN:VEVENT
DTSTART;TZID=Europe/Berlin:20251129T000000
DTEND;TZID=Europe/Berlin:20251130T235959
DTSTAMP:20260424T235749
CREATED:20251027T215915Z
LAST-MODIFIED:20251027T215919Z
UID:3541-1764374400-1764547199@www.wintersportfreunde.de
SUMMARY:Saisoneröffnung 2025: 2-Tage Pitztal
DESCRIPTION:Zum Saisonstart mit unseren Übungsleitern im Pitztal den ersten Schnee der Saison genießen: Unsere Übungsleiter nutzen die Chance zur Fortbildung\, und alle anderen Skifahrer und Snowboarder sind herzlich willkommen\, mit uns den ersten Schnee der Saison zu erfahren. \n\n\n\nWir übernachten im Hotel St. Leonhard in St. Leonhard im Pitztal. \n\n\n\nLeistungen\n\n\n\nAn- und Abreise im KleinbusÜbernachtung mit Halbpension 2-Tages-Liftpass \n\n\n\nAbfahrt\n\n\n\n04:30 Uhr Tapfheim Schulparkplatz04:45 Uhr Donauwörth beim ehemaligen Radio RT1 \n\n\n\nPreise\n\n\n\nFahrt:   29\,00 €Ü/HP: noch offen\n\n\n\nLiftpass  Kinder (Jahrgang 2011-2017): 89\,00 €Jugend (Jahrgang 2006-2010):126\,00 €Erwachsene (ab Jahrgang 2005): 148\,00 €\n\n\n\nOrganisation\n\n\n\nReiseleitung: Michael Grob\, Oliver SchneiderTeilnehmer: Maximal 24 PersonenAnmeldeschluss: 11.11.2025Bitte unsere Teilnahmebedingungen beachten! \n\n\n\nLinks\n\n\n\nSkigebiet: www.pitztal.com \n\n\n\nHotel: www.stleonhard.com
URL:https://www.wintersportfreunde.de/termin/saisoneroeffnung2025/
LOCATION:Pitztaler Gletscher\, Mittelberg\, St. Leonhard\, Tirol\, 6481\, Österreich
CATEGORIES:Ausfahrten,Ski Alpin,Ski-Snowboard,Snowboard
ATTACH;FMTTYPE=image/jpeg:https://www.wintersportfreunde.de/wp-content/uploads/2024/11/PHOTO-2024-11-17-14-51-48.jpg
ORGANIZER;CN="Wintersportfreunde Tapfheim e.V.":MAILTO:kontakt@wintersportfreunde.de IBAN:DE41722515200190596130
END:VEVENT
END:VCALENDAR