BEGIN:VCALENDAR
VERSION:2.0
PRODID:-//WinterSportFreunde Tapfheim e.V. - ECPv6.15.18//NONSGML v1.0//EN
CALSCALE:GREGORIAN
METHOD:PUBLISH
X-ORIGINAL-URL:https://www.wintersportfreunde.de
X-WR-CALDESC:Veranstaltungen für WinterSportFreunde Tapfheim e.V.
REFRESH-INTERVAL;VALUE=DURATION:PT1H
X-Robots-Tag:noindex
X-PUBLISHED-TTL:PT1H
BEGIN:VTIMEZONE
TZID:Europe/Berlin
BEGIN:DAYLIGHT
TZOFFSETFROM:+0100
TZOFFSETTO:+0200
TZNAME:CEST
DTSTART:20250330T010000
END:DAYLIGHT
BEGIN:STANDARD
TZOFFSETFROM:+0200
TZOFFSETTO:+0100
TZNAME:CET
DTSTART:20251026T010000
END:STANDARD
BEGIN:DAYLIGHT
TZOFFSETFROM:+0100
TZOFFSETTO:+0200
TZNAME:CEST
DTSTART:20260329T010000
END:DAYLIGHT
BEGIN:STANDARD
TZOFFSETFROM:+0200
TZOFFSETTO:+0100
TZNAME:CET
DTSTART:20261025T010000
END:STANDARD
BEGIN:DAYLIGHT
TZOFFSETFROM:+0100
TZOFFSETTO:+0200
TZNAME:CEST
DTSTART:20270328T010000
END:DAYLIGHT
BEGIN:STANDARD
TZOFFSETFROM:+0200
TZOFFSETTO:+0100
TZNAME:CET
DTSTART:20271031T010000
END:STANDARD
END:VTIMEZONE
BEGIN:VEVENT
DTSTART;TZID=Europe/Berlin:20260328T000000
DTEND;TZID=Europe/Berlin:20260329T235959
DTSTAMP:20260424T175312
CREATED:20251027T200505Z
LAST-MODIFIED:20251027T200621Z
UID:3521-1774656000-1774828799@www.wintersportfreunde.de
SUMMARY:Racing Team: Abschlussfahrt 2026
DESCRIPTION:Am Ende eines langen Winter\, in dem sich das Racing Team fast jedes Wochenende zu Trainingsfahrten und Rennen getroffen hat\, findet die alljährliche Abschlussfahrt statt. \n\n\n\nZiel ist voraussichtlich das Zillertal. Je nach Schneelage werden wir entweder in der ZillertalArena oder auf dem Hintertuxer Gletscher zusammen die letzten Schwünge der Saison machen. Am Abend gibt es wie immer eine lustige Hüttengaudi. \n\n\n\nLeistungen\n\n\n\nAn- und Abreise im Kleinbus / AutoÜbernachtung (noch offen)2-Tages-Liftpass \n\n\n\nAbfahrt & Rückkehr\n\n\n\nTreffpunkt: Samstag\, 28.03.2026 am Nettoparkplatz DonauwörthAbfahrt: 04:30 UhrRückkehr: Sonntag\, 29.03.2026 ca. 19.30 Uhr (Ankunftszeit verkehrsbedingt!)Abholung ebenfalls am Nettoparkplatz Donauwörth \n\n\n\nPreise\n\n\n\nPreise werden erst nach Buchung der Unterkunft verfügbar \n\n\n\nKinder (Jg. 2011-2019): €Jugendliche (Jg. 2007-2010): €Erwachsene: €\n\n\n\nOrganisation\n\n\n\nTeilnehmer: Mitglieder des Racing Teams der Wintersportfreunde TapfheimAnmeldeschluss: 01.03.2026 \n\n\n\nInfo & Anmeldung\n\n\n\nEmail: jugend@wintersportfreunde.deWSF-Info-Telefon: 09070 / 92 11 55 \n\n\n\nLinks\n\n\n\nSkigebiet: www.hintertuxergletscher.atSkigebiet: https://www.zillertalarena.com/winter/Pension: www.olpererblick-tux.at
URL:https://www.wintersportfreunde.de/termin/abschlussfahrt2026/
LOCATION:Hintertuxer Gletscher\, Hintertux 794\, Tux\, 6293\, Österreich
CATEGORIES:Ausfahrten,Kids&Teens,Racing Team,Ski Alpin
ATTACH;FMTTYPE=image/jpeg:https://www.wintersportfreunde.de/wp-content/uploads/2024/11/444ACC25-4681-44E1-87D6-DF4304F02E51.jpg
ORGANIZER;CN="Wintersportfreunde Tapfheim e.V.":MAILTO:kontakt@wintersportfreunde.de IBAN:DE41722515200190596130
END:VEVENT
END:VCALENDAR