BEGIN:VCALENDAR
VERSION:2.0
PRODID:-//WinterSportFreunde Tapfheim e.V. - ECPv6.15.18//NONSGML v1.0//EN
CALSCALE:GREGORIAN
METHOD:PUBLISH
X-ORIGINAL-URL:https://www.wintersportfreunde.de
X-WR-CALDESC:Veranstaltungen für WinterSportFreunde Tapfheim e.V.
REFRESH-INTERVAL;VALUE=DURATION:PT1H
X-Robots-Tag:noindex
X-PUBLISHED-TTL:PT1H
BEGIN:VTIMEZONE
TZID:Europe/Berlin
BEGIN:DAYLIGHT
TZOFFSETFROM:+0100
TZOFFSETTO:+0200
TZNAME:CEST
DTSTART:20240331T010000
END:DAYLIGHT
BEGIN:STANDARD
TZOFFSETFROM:+0200
TZOFFSETTO:+0100
TZNAME:CET
DTSTART:20241027T010000
END:STANDARD
BEGIN:DAYLIGHT
TZOFFSETFROM:+0100
TZOFFSETTO:+0200
TZNAME:CEST
DTSTART:20250330T010000
END:DAYLIGHT
BEGIN:STANDARD
TZOFFSETFROM:+0200
TZOFFSETTO:+0100
TZNAME:CET
DTSTART:20251026T010000
END:STANDARD
BEGIN:DAYLIGHT
TZOFFSETFROM:+0100
TZOFFSETTO:+0200
TZNAME:CEST
DTSTART:20260329T010000
END:DAYLIGHT
BEGIN:STANDARD
TZOFFSETFROM:+0200
TZOFFSETTO:+0100
TZNAME:CET
DTSTART:20261025T010000
END:STANDARD
END:VTIMEZONE
BEGIN:VEVENT
DTSTART;TZID=Europe/Berlin:20250719T110000
DTEND;TZID=Europe/Berlin:20250719T130000
DTSTAMP:20260425T050945
CREATED:20250715T181143Z
LAST-MODIFIED:20250715T181319Z
UID:3479-1752922800-1752930000@www.wintersportfreunde.de
SUMMARY:Wasserski am Gufi-See
DESCRIPTION:Wer hat Lust\, mal Wasserski auszuprobieren? Etwas feucht\, aber ein Riesenspaß! \n\n\n\nAuch 2025 haben wir die Bahn wieder für 2 Stunden komplett gemietet. Damit können wir auf alle Fälle wieder ohne Wartezeit um den See düsen\, bis die Arme brennen. \n\n\n\nAlso\, wir freuen uns über viele Mitfahrer – das gilt für alle Kids\, aber auch Große haben einen Riesenspaß! \n\n\n\nWann & wo:\n\n\n\n\nSamstag\, 19.07.2025 am Gufi-See in Gundelfingen\n\n\n\nTreffpunkt am \n\nDonauwörth Nettoparkplatz um 10:00\n\n\n\nSchulparkplatz in Tapfheim um 10:15\n\n\n\n\n\nWir haben die Bahn von 11:00-13:00 Uhr\n\n\n\nPreis 23 €\n\n\n\n\nWer mehr wissen will:http://www.wasserski-gundelfingen.de/index.html \n\n\n\nWichtig:Sichere Schwimmkünste sind natürlich absolute Voraussetzung\, Benutzung auf eigene Verantwortung. Am Seil hängt jeder für sich alleine\, weder der Verein noch die Betreiber können für Minderjährige die Aufsicht übernehmen. Mindestalter 10 Jahre.Für Minderjährige ohne Begleitung der Eltern ist eine Einverständniserklärung nötig  \n\n\n\nInfo & Anmeldung\n\n\n\nEmail an kontakt@wintersportfreunde.de oderWSF-Info-Telefon 09070/921155 \n\n\n\nWolfgang
URL:https://www.wintersportfreunde.de/termin/wasserski2025/
LOCATION:Gufi-See Gundelfingen\, Haldenweg 10\, Gundelfingen\, 89423\, Deutschland
CATEGORIES:Ausfahrten,Breitensport,Kids&Teens,Racing Team,Ski Alpin
ORGANIZER;CN="Wintersportfreunde Tapfheim e.V.":MAILTO:kontakt@wintersportfreunde.de IBAN:DE41722515200190596130
END:VEVENT
END:VCALENDAR